BEGIN:VCALENDAR
VERSION:2.0
PRODID:-//Trinidad &amp; Tobago Karate Association - ECPv6.15.20//NONSGML v1.0//EN
CALSCALE:GREGORIAN
METHOD:PUBLISH
X-ORIGINAL-URL:https://ttka.org
X-WR-CALDESC:Events for Trinidad &amp; Tobago Karate Association
REFRESH-INTERVAL;VALUE=DURATION:PT1H
X-Robots-Tag:noindex
X-PUBLISHED-TTL:PT1H
BEGIN:VTIMEZONE
TZID:America/Halifax
BEGIN:DAYLIGHT
TZOFFSETFROM:-0400
TZOFFSETTO:-0300
TZNAME:ADT
DTSTART:20240310T060000
END:DAYLIGHT
BEGIN:STANDARD
TZOFFSETFROM:-0300
TZOFFSETTO:-0400
TZNAME:AST
DTSTART:20241103T050000
END:STANDARD
BEGIN:DAYLIGHT
TZOFFSETFROM:-0400
TZOFFSETTO:-0300
TZNAME:ADT
DTSTART:20250309T060000
END:DAYLIGHT
BEGIN:STANDARD
TZOFFSETFROM:-0300
TZOFFSETTO:-0400
TZNAME:AST
DTSTART:20251102T050000
END:STANDARD
BEGIN:DAYLIGHT
TZOFFSETFROM:-0400
TZOFFSETTO:-0300
TZNAME:ADT
DTSTART:20260308T060000
END:DAYLIGHT
BEGIN:STANDARD
TZOFFSETFROM:-0300
TZOFFSETTO:-0400
TZNAME:AST
DTSTART:20261101T050000
END:STANDARD
END:VTIMEZONE
BEGIN:VEVENT
DTSTART;VALUE=DATE:20251116
DTEND;VALUE=DATE:20251117
DTSTAMP:20260422T154936
CREATED:20250503T051129Z
LAST-MODIFIED:20251104T000159Z
UID:2302-1763251200-1763337599@ttka.org
SUMMARY:TKA KARATE CHAMPIONSHIPS
DESCRIPTION:
URL:https://ttka.org/event/tka-karate-championships/
CATEGORIES:Tournament
ATTACH;FMTTYPE=image/jpeg:https://ttka.org/wp-content/uploads/2025/05/tka-annual-karate-championships-2025.jpg
END:VEVENT
BEGIN:VEVENT
DTSTART;VALUE=DATE:20250928
DTEND;VALUE=DATE:20250929
DTSTAMP:20260422T154936
CREATED:20250503T050852Z
LAST-MODIFIED:20250901T145414Z
UID:2298-1759017600-1759103999@ttka.org
SUMMARY:TKA Kumite Tournament
DESCRIPTION:
URL:https://ttka.org/event/tka-kumite-tournament/
CATEGORIES:Tournament
ATTACH;FMTTYPE=image/jpeg:https://ttka.org/wp-content/uploads/2025/06/TKA-Kumite-Tournament-banner.jpg
END:VEVENT
BEGIN:VEVENT
DTSTART;VALUE=DATE:20250924
DTEND;VALUE=DATE:20250925
DTSTAMP:20260422T154936
CREATED:20250503T050953Z
LAST-MODIFIED:20250503T052912Z
UID:2300-1758672000-1758758399@ttka.org
SUMMARY:TKA Open - Republic Day
DESCRIPTION:
URL:https://ttka.org/event/tka-open-republic-day/
CATEGORIES:Tournament
END:VEVENT
BEGIN:VEVENT
DTSTART;VALUE=DATE:20250713
DTEND;VALUE=DATE:20250714
DTSTAMP:20260422T154936
CREATED:20250503T050657Z
LAST-MODIFIED:20250616T093648Z
UID:2294-1752364800-1752451199@ttka.org
SUMMARY:Kuro Obi Invitational Karate Championships
DESCRIPTION:
URL:https://ttka.org/event/kuro-obi-invitational-karate-championships/
CATEGORIES:Tournament
ATTACH;FMTTYPE=image/jpeg:https://ttka.org/wp-content/uploads/2025/05/Screenshot-2025-06-09-142750.jpg
END:VEVENT
BEGIN:VEVENT
DTSTART;VALUE=DATE:20250608
DTEND;VALUE=DATE:20250609
DTSTAMP:20260422T154936
CREATED:20250503T050353Z
LAST-MODIFIED:20250518T022627Z
UID:2284-1749340800-1749427199@ttka.org
SUMMARY:TKA TEAM TOURNAMENT
DESCRIPTION:
URL:https://ttka.org/event/tka-team-tournament/
CATEGORIES:Tournament
ATTACH;FMTTYPE=image/jpeg:https://ttka.org/wp-content/uploads/2025/05/20230121_111846.jpg
END:VEVENT
END:VCALENDAR